BEGIN:VCALENDAR
VERSION:2.0
PRODID:-//hacksw/handcal//NONSGML v1.0//EN
CALSCALE:GREGORIAN
BEGIN:VEVENT
LOCATION:Upper Austria\, Austria
SUMMARY:International Clean Energy Challenge
DESCRIPTION:International Clean Energy Challenge
DTSTART:20230724T000000
DTEND:20230728T000000
URL;VALUE=URI:https://energy-cities.eu/event/international-clean-energy-challenge/
DTSTAMP:now
UID:65976c84eb9ef
END:VEVENT
END:VCALENDAR