BEGIN:VCALENDAR
VERSION:2.0
PRODID:-//hacksw/handcal//NONSGML v1.0//EN
CALSCALE:GREGORIAN
BEGIN:VEVENT
LOCATION:Utrecht\, Netherlands
SUMMARY:Moving from solutions to system change
DESCRIPTION:Moving from solutions to system change
DTSTART:20220601T090000
DTEND:20220602T170000
URL;VALUE=URI:https://energy-cities.eu/event/moving-from-solutions-to-system-change/
DTSTAMP:now
UID:65976bf988519
END:VEVENT
END:VCALENDAR