BEGIN:VCALENDAR
VERSION:2.0
PRODID:-//hacksw/handcal//NONSGML v1.0//EN
CALSCALE:GREGORIAN
BEGIN:VEVENT
LOCATION:Valencia\, Spain
SUMMARY:From Positive Energy Districts to Climate Neutral Cities. How to scale up our technologies and solutions
DESCRIPTION:From Positive Energy Districts to Climate Neutral Cities. How to scale up our technologies and solutions
DTSTART:20230329T000000
DTEND:20230330T000000
URL;VALUE=URI:https://energy-cities.eu/event/from-positive-energy-districts-to-climate-neutral-cities-how-to-scale-up-our-technologies-and-solutions/
DTSTAMP:now
UID:6597697b4274a
END:VEVENT
END:VCALENDAR