BEGIN:VCALENDAR
VERSION:2.0
PRODID:-//hacksw/handcal//NONSGML v1.0//EN
CALSCALE:GREGORIAN
BEGIN:VEVENT
LOCATION:Valencia\, Spain
SUMMARY:On tient table ouverte à Valencia ! /!\ ANNULE /!\
DESCRIPTION:On tient table ouverte à Valencia ! /!\ ANNULE /!\
DTSTART:20231109T000000
DTEND:20231110T000000
URL;VALUE=URI:https://energy-cities.eu/fr/evenement/on-tient-table-ouverte-a-valencia/
DTSTAMP:now
UID:659766d27f2e6
END:VEVENT
END:VCALENDAR