BEGIN:VCALENDAR
VERSION:2.0
PRODID:-//hacksw/handcal//NONSGML v1.0//EN
CALSCALE:GREGORIAN
BEGIN:VEVENT
LOCATION:Valencia\, Spain
SUMMARY:Resilient Municipalities and Regions
DESCRIPTION:Resilient Municipalities and Regions
DTSTART:20220507T000000
DTEND:20220508T000000
URL;VALUE=URI:https://energy-cities.eu/event/resilient-municipalities-and-regions/
DTSTAMP:now
UID:65976ef355acd
END:VEVENT
END:VCALENDAR