BEGIN:VCALENDAR
VERSION:2.0
PRODID:-//hacksw/handcal//NONSGML v1.0//EN
CALSCALE:GREGORIAN
BEGIN:VEVENT
LOCATION:Vienna\, Austria
SUMMARY:Decarb Cities forum
DESCRIPTION:Decarb Cities forum
DTSTART:20200224T000000
DTEND:20200225T000000
URL;VALUE=URI:https://energy-cities.eu/event/decarb-cities-forum/
DTSTAMP:now
UID:6597718b254ff
END:VEVENT
END:VCALENDAR