BEGIN:VCALENDAR
VERSION:2.0
PRODID:-//hacksw/handcal//NONSGML v1.0//EN
CALSCALE:GREGORIAN
BEGIN:VEVENT
LOCATION:Warsaw\, Poland
SUMMARY:LIFE PlanUp regional workshop: Achieving a low carbon pathway in Eastern European countries through ambitious Energy and Climate Plans
DESCRIPTION:LIFE PlanUp regional workshop: Achieving a low carbon pathway in Eastern European countries through ambitious Energy and Climate Plans
DTSTART:20191120T110000
DTEND:20191121T170000
URL;VALUE=URI:https://energy-cities.eu/event/life-planup-regional-workshop-achieving-a-low-carbon-pathway-in-eastern-european-countries-through-ambitious-energy-and-climate-plans/
DTSTAMP:now
UID:659766dc789e0
END:VEVENT
END:VCALENDAR