BEGIN:VCALENDAR
VERSION:2.0
PRODID:-//hacksw/handcal//NONSGML v1.0//EN
CALSCALE:GREGORIAN
BEGIN:VEVENT
LOCATION:Wels\, Austria
SUMMARY:Conférence Européenne « Efficacité Énergétique »
DESCRIPTION:Conférence Européenne « Efficacité Énergétique »
DTSTART:20200304T000000
DTEND:20200306T000000
URL;VALUE=URI:https://energy-cities.eu/fr/evenement/european-energy-efficiency-conference/
DTSTAMP:now
UID:65976fdd8c3ae
END:VEVENT
END:VCALENDAR