BEGIN:VCALENDAR
VERSION:2.0
PRODID:-//hacksw/handcal//NONSGML v1.0//EN
CALSCALE:GREGORIAN
BEGIN:VEVENT
LOCATION:Wels\, Austria
SUMMARY:European Energy Efficiency Conference
DESCRIPTION:European Energy Efficiency Conference
DTSTART:20200304T000000
DTEND:20200306T000000
URL;VALUE=URI:https://energy-cities.eu/event/european-energy-efficiency-conference/
DTSTAMP:now
UID:65976bcef3d8a
END:VEVENT
END:VCALENDAR