BEGIN:VCALENDAR
VERSION:2.0
PRODID:-//hacksw/handcal//NONSGML v1.0//EN
CALSCALE:GREGORIAN
BEGIN:VEVENT
LOCATION:Wels\, Austria
SUMMARY:Finance verte : débloquer la transition énergétique locale
DESCRIPTION:Finance verte : débloquer la transition énergétique locale
DTSTART:20200305T000000
DTEND:20200305T000000
URL;VALUE=URI:https://energy-cities.eu/fr/evenement/smart-financing-unlocking-the-local-energy-transition/
DTSTAMP:now
UID:65976ac249c5b
END:VEVENT
END:VCALENDAR