BEGIN:VCALENDAR
VERSION:2.0
PRODID:-//hacksw/handcal//NONSGML v1.0//EN
CALSCALE:GREGORIAN
BEGIN:VEVENT
LOCATION:Wels\, Austria
SUMMARY:Green financing: unlocking the local energy transition
DESCRIPTION:Green financing: unlocking the local energy transition
DTSTART:20200305T000000
DTEND:20200305T000000
URL;VALUE=URI:https://energy-cities.eu/event/smart-financing-unlocking-the-local-energy-transition/
DTSTAMP:now
UID:65976f22b3457
END:VEVENT
END:VCALENDAR