BEGIN:VCALENDAR
VERSION:2.0
PRODID:-//hacksw/handcal//NONSGML v1.0//EN
CALSCALE:GREGORIAN
BEGIN:VEVENT
LOCATION:Wien\, Austria
SUMMARY:R20 Austrian World Summit
DESCRIPTION:R20 Austrian World Summit
DTSTART:20190528T000000
DTEND:20190529T000000
URL;VALUE=URI:https://energy-cities.eu/event/r20-austrian-world-summit/
DTSTAMP:now
UID:65976e1edd2a3
END:VEVENT
END:VCALENDAR