BEGIN:VCALENDAR
VERSION:2.0
PRODID:-//hacksw/handcal//NONSGML v1.0//EN
CALSCALE:GREGORIAN
BEGIN:VEVENT
LOCATION:Zagreb\, Croatia
SUMMARY:Energy Poverty Advisory Hub Conference &#8211\; Moving Towards Energy Autonomy: How to Guarantee Social Inclusion
DESCRIPTION:Energy Poverty Advisory Hub Conference &#8211\; Moving Towards Energy Autonomy: How to Guarantee Social Inclusion
DTSTART:20220628T000000
DTEND:20220629T000000
URL;VALUE=URI:https://energy-cities.eu/event/energy-poverty-advisory-hub-conference-moving-towards-energy-autonomy-how-to-guarantee-social-inclusion/
DTSTAMP:now
UID:65977692dcb6b
END:VEVENT
END:VCALENDAR